BEGIN:VCALENDAR
VERSION:2.0
PRODID:-//MŠ Neumannka - ECPv5.16.4//NONSGML v1.0//EN
CALSCALE:GREGORIAN
METHOD:PUBLISH
X-WR-CALNAME:MŠ Neumannka
X-ORIGINAL-URL:https://www.neumannka.cz
X-WR-CALDESC:Akce na MŠ Neumannka
BEGIN:VTIMEZONE
TZID:Europe/Prague
BEGIN:DAYLIGHT
TZOFFSETFROM:+0100
TZOFFSETTO:+0200
TZNAME:CEST
DTSTART:20260329T010000
END:DAYLIGHT
BEGIN:STANDARD
TZOFFSETFROM:+0200
TZOFFSETTO:+0100
TZNAME:CET
DTSTART:20261025T010000
END:STANDARD
END:VTIMEZONE
BEGIN:VEVENT
DTSTART;TZID=Europe/Prague:20260413T090000
DTEND;TZID=Europe/Prague:20260413T110000
DTSTAMP:20260425T155827
CREATED:20260320T121524Z
LAST-MODIFIED:20260320T121602Z
UID:1259-1776070800-1776078000@www.neumannka.cz
SUMMARY:Divadlo kouzel Waldini
DESCRIPTION:V pondělí 13. 4. se od 9 h můžeme těšit na kouzelníka Waldiniho. Vystoupení stojí 80 Kč. Děti dostanou domů balonkové zvířátko.
URL:https://www.neumannka.cz/kalendar/divadlo-kouzel-waldini/
CATEGORIES:kalendář a hlavní stránka
END:VEVENT
END:VCALENDAR